Package: flowCore Version: 2.21.0 Command: /Library/Frameworks/R.framework/Resources/bin/R CMD build --keep-empty-dirs --no-resave-data flowCore StartedAt: 2025-04-28 16:45:42 -0400 (Mon, 28 Apr 2025) EndedAt: 2025-04-28 16:47:02 -0400 (Mon, 28 Apr 2025) EllapsedTime: 80.1 seconds RetCode: 1 Status: ERROR PackageFile: None PackageFileSize: NA