Package: flowCore Version: 2.19.0 Command: /home/biocbuild/R/R/bin/R CMD INSTALL flowCore StartedAt: 2025-01-29 19:41:02 -0000 (Wed, 29 Jan 2025) EndedAt: 2025-01-29 19:42:07 -0000 (Wed, 29 Jan 2025) EllapsedTime: 65.2 seconds RetCode: 0 Status: OK