Package: flowCore Version: 2.21.0 Command: /Library/Frameworks/R.framework/Resources/bin/R CMD INSTALL flowCore StartedAt: 2025-05-08 15:06:41 -0400 (Thu, 08 May 2025) EndedAt: 2025-05-08 15:06:56 -0400 (Thu, 08 May 2025) EllapsedTime: 14.5 seconds RetCode: 0 Status: OK