Package: flowClust Version: 3.49.0 Command: /home/biocbuild/bbs-3.23-bioc/R/bin/R CMD INSTALL flowClust StartedAt: 2025-11-24 15:14:10 -0500 (Mon, 24 Nov 2025) EndedAt: 2025-11-24 15:15:49 -0500 (Mon, 24 Nov 2025) EllapsedTime: 99.0 seconds RetCode: 0 Status: OK