Package: flowClean Version: 1.45.0 Command: /home/biocbuild/bbs-3.21-bioc/R/bin/R CMD INSTALL flowClean StartedAt: 2025-02-03 15:22:34 -0500 (Mon, 03 Feb 2025) EndedAt: 2025-02-03 15:22:42 -0500 (Mon, 03 Feb 2025) EllapsedTime: 7.3 seconds RetCode: 0 Status: OK