Package: flowClean Version: 1.47.0 Maintainer: Kipper Fletez-Brant MaintainerEmail: cafletezbrant at gmail.com git_url: https://git.bioconductor.org/packages/flowClean git_branch: devel git_last_commit: 28921a8 git_last_commit_date: 2025-04-15 10:31:36 -0400 (Tue, 15 Apr 2025)