Package: flowBeads Version: 1.47.0 Command: /Library/Frameworks/R.framework/Resources/bin/R CMD INSTALL flowBeads StartedAt: 2025-05-09 15:20:21 -0400 (Fri, 09 May 2025) EndedAt: 2025-05-09 15:20:25 -0400 (Fri, 09 May 2025) EllapsedTime: 3.7 seconds RetCode: 0 Status: OK