Package: flowAI Version: 1.39.0 Command: /Library/Frameworks/R.framework/Resources/bin/R CMD INSTALL flowAI StartedAt: 2025-07-22 15:14:58 -0400 (Tue, 22 Jul 2025) EndedAt: 2025-07-22 15:15:14 -0400 (Tue, 22 Jul 2025) EllapsedTime: 15.6 seconds RetCode: 0 Status: OK