Package: flagme Version: 1.63.0 Command: /Library/Frameworks/R.framework/Resources/bin/R CMD INSTALL flagme StartedAt: 2025-02-16 15:19:38 -0500 (Sun, 16 Feb 2025) EndedAt: 2025-02-16 15:19:56 -0500 (Sun, 16 Feb 2025) EllapsedTime: 18.4 seconds RetCode: 0 Status: OK