Package: fishpond Version: 2.15.0 Command: /Library/Frameworks/R.framework/Resources/bin/R CMD check --install=check:fishpond.install-out.txt --library=/Library/Frameworks/R.framework/Resources/library --no-vignettes --timings fishpond_2.15.0.tar.gz StartedAt: 2025-04-30 19:24:10 -0400 (Wed, 30 Apr 2025) EndedAt: 2025-04-30 19:25:47 -0400 (Wed, 30 Apr 2025) EllapsedTime: 97.2 seconds RetCode: 0 Status: OK CheckDir: fishpond.Rcheck Warnings: 0