Package: fishpond Version: 2.15.0 Command: /Library/Frameworks/R.framework/Resources/bin/R CMD build --keep-empty-dirs --no-resave-data fishpond StartedAt: 2025-04-30 16:19:31 -0400 (Wed, 30 Apr 2025) EndedAt: 2025-04-30 16:21:21 -0400 (Wed, 30 Apr 2025) EllapsedTime: 110.3 seconds RetCode: 0 Status: OK PackageFile: fishpond_2.15.0.tar.gz PackageFileSize: 4.278 MiB