Package: fishpond Version: 2.15.0 Command: rm -rf fishpond.buildbin-libdir && mkdir fishpond.buildbin-libdir && /Users/biocbuild/BBS/utils/build-universal.sh fishpond_2.15.0.tar.gz /Library/Frameworks/R.framework/Resources/bin/R fishpond.buildbin-libdir StartedAt: 2025-04-30 22:35:15 -0400 (Wed, 30 Apr 2025) EndedAt: 2025-04-30 22:35:27 -0400 (Wed, 30 Apr 2025) EllapsedTime: 11.3 seconds RetCode: 0 Status: OK PackageFile: fishpond_2.15.0.tgz PackageFileSize: 4.01 MiB