Package: findIPs Version: 1.5.0 Command: chmod a+r findIPs -R && F:\biocbuild\bbs-3.22-bioc\R\bin\R.exe CMD build --keep-empty-dirs --no-resave-data findIPs StartedAt: 2025-08-14 20:11:10 -0400 (Thu, 14 Aug 2025) EndedAt: 2025-08-14 20:21:05 -0400 (Thu, 14 Aug 2025) EllapsedTime: 594.8 seconds RetCode: 0 Status: OK PackageFile: findIPs_1.5.0.tar.gz PackageFileSize: 2.187 MiB