Package: fgsea Version: 1.33.2 Command: E:\biocbuild\bbs-3.21-bioc\R\bin\R.exe CMD INSTALL fgsea StartedAt: 2025-02-04 16:25:35 -0500 (Tue, 04 Feb 2025) EndedAt: 2025-02-04 16:26:35 -0500 (Tue, 04 Feb 2025) EllapsedTime: 59.8 seconds RetCode: 0 Status: OK