Package: fgsea Version: 1.33.2 Command: chmod a+r fgsea -R && E:\biocbuild\bbs-3.21-bioc\R\bin\R.exe CMD build --keep-empty-dirs --no-resave-data fgsea StartedAt: 2025-02-04 18:45:05 -0500 (Tue, 04 Feb 2025) EndedAt: 2025-02-04 18:53:09 -0500 (Tue, 04 Feb 2025) EllapsedTime: 483.7 seconds RetCode: 0 Status: OK PackageFile: fgsea_1.33.2.tar.gz PackageFileSize: 3.757 MiB