Package: fgsea Version: 1.33.2 Command: rm -rf fgsea.buildbin-libdir && mkdir fgsea.buildbin-libdir && E:\biocbuild\bbs-3.21-bioc\R\bin\R.exe CMD INSTALL --build --library=fgsea.buildbin-libdir fgsea_1.33.2.tar.gz StartedAt: 2025-02-05 07:56:40 -0500 (Wed, 05 Feb 2025) EndedAt: 2025-02-05 07:57:33 -0500 (Wed, 05 Feb 2025) EllapsedTime: 52.1 seconds RetCode: 0 Status: OK PackageFile: fgsea_1.33.2.zip PackageFileSize: 4.07 MiB