Package: fgsea Version: 1.33.2 Command: /Library/Frameworks/R.framework/Resources/bin/R CMD INSTALL fgsea StartedAt: 2025-02-04 15:30:27 -0500 (Tue, 04 Feb 2025) EndedAt: 2025-02-04 15:31:08 -0500 (Tue, 04 Feb 2025) EllapsedTime: 40.3 seconds RetCode: 0 Status: OK