Package: fgsea Version: 1.33.2 Command: /Library/Frameworks/R.framework/Resources/bin/R CMD build --keep-empty-dirs --no-resave-data fgsea StartedAt: 2025-02-04 16:42:21 -0500 (Tue, 04 Feb 2025) EndedAt: 2025-02-04 16:48:57 -0500 (Tue, 04 Feb 2025) EllapsedTime: 396.2 seconds RetCode: 0 Status: OK PackageFile: fgsea_1.33.2.tar.gz PackageFileSize: 5.403 MiB