Package: fgsea Version: 1.33.2 Command: rm -rf fgsea.buildbin-libdir && mkdir fgsea.buildbin-libdir && /Users/biocbuild/BBS/utils/build-universal.sh fgsea_1.33.2.tar.gz /Library/Frameworks/R.framework/Resources/bin/R fgsea.buildbin-libdir StartedAt: 2025-02-05 00:39:56 -0500 (Wed, 05 Feb 2025) EndedAt: 2025-02-05 00:40:41 -0500 (Wed, 05 Feb 2025) EllapsedTime: 45.5 seconds RetCode: 0 Status: OK PackageFile: fgsea_1.33.2.tgz PackageFileSize: 5.434 MiB