Package: fgsea Version: 1.33.2 Command: /home/biocbuild/R/R/bin/R CMD INSTALL fgsea StartedAt: 2025-01-29 20:15:12 -0000 (Wed, 29 Jan 2025) EndedAt: 2025-01-29 20:16:05 -0000 (Wed, 29 Jan 2025) EllapsedTime: 53.7 seconds RetCode: 0 Status: OK