Package: fgsea
Version: 1.33.2
Command: /Library/Frameworks/R.framework/Resources/bin/R CMD INSTALL fgsea
StartedAt: 2025-02-17 15:19:34 -0500 (Mon, 17 Feb 2025)
EndedAt: 2025-02-17 15:19:44 -0500 (Mon, 17 Feb 2025)
EllapsedTime: 10.8 seconds
RetCode: 0
Status: OK