Package: fgga Version: 1.17.0 Command: /home/biocbuild/R/R/bin/R CMD build --keep-empty-dirs --no-resave-data fgga StartedAt: 2025-10-06 23:42:31 -0000 (Mon, 06 Oct 2025) EndedAt: 2025-10-06 23:43:45 -0000 (Mon, 06 Oct 2025) EllapsedTime: 74.0 seconds RetCode: 0 Status: OK PackageFile: fgga_1.17.0.tar.gz PackageFileSize: 1.376 MiB