Package: fgga Version: 1.17.0 Command: /Library/Frameworks/R.framework/Resources/bin/R CMD build --keep-empty-dirs --no-resave-data fgga StartedAt: 2025-10-03 17:01:17 -0400 (Fri, 03 Oct 2025) EndedAt: 2025-10-03 17:02:42 -0400 (Fri, 03 Oct 2025) EllapsedTime: 85.5 seconds RetCode: 0 Status: OK PackageFile: fgga_1.17.0.tar.gz PackageFileSize: 1.361 MiB