Package: ffpe Version: 1.51.0 Command: /Library/Frameworks/R.framework/Resources/bin/R CMD build --keep-empty-dirs --no-resave-data ffpe StartedAt: 2025-02-16 16:37:53 -0500 (Sun, 16 Feb 2025) EndedAt: 2025-02-16 16:39:25 -0500 (Sun, 16 Feb 2025) EllapsedTime: 92.7 seconds RetCode: 0 Status: OK PackageFile: ffpe_1.51.0.tar.gz PackageFileSize: 267.6 KiB