Package: fenr Version: 1.7.1 Command: chmod a+r fenr -R && F:\biocbuild\bbs-3.22-bioc\R\bin\R.exe CMD build --keep-empty-dirs --no-resave-data fenr StartedAt: 2025-08-14 20:10:41 -0400 (Thu, 14 Aug 2025) EndedAt: 2025-08-14 20:11:19 -0400 (Thu, 14 Aug 2025) EllapsedTime: 38.3 seconds RetCode: 0 Status: OK PackageFile: fenr_1.7.1.tar.gz PackageFileSize: 1.997 MiB