Package: fenr Version: 1.5.1 Command: /Library/Frameworks/R.framework/Resources/bin/R CMD check --install=check:fenr.install-out.txt --library=/Library/Frameworks/R.framework/Resources/library --no-vignettes --timings fenr_1.5.1.tar.gz StartedAt: 2025-02-03 20:31:40 -0500 (Mon, 03 Feb 2025) EndedAt: 2025-02-03 20:34:34 -0500 (Mon, 03 Feb 2025) EllapsedTime: 173.6 seconds RetCode: 0 Status: OK CheckDir: fenr.Rcheck Warnings: 0