Package: fenr Version: 1.5.1 Command: /Library/Frameworks/R.framework/Resources/bin/R CMD INSTALL fenr StartedAt: 2025-01-31 15:15:14 -0500 (Fri, 31 Jan 2025) EndedAt: 2025-01-31 15:15:15 -0500 (Fri, 31 Jan 2025) EllapsedTime: 1.3 seconds RetCode: 0 Status: OK