Package: fedup Version: 1.17.0 Command: /home/biocbuild/bbs-3.22-bioc/R/bin/R CMD INSTALL fedup StartedAt: 2025-10-17 15:11:54 -0400 (Fri, 17 Oct 2025) EndedAt: 2025-10-17 15:12:03 -0400 (Fri, 17 Oct 2025) EllapsedTime: 9.0 seconds RetCode: 0 Status: OK