Package: fedup Version: 1.17.0 Command: /home/biocbuild/bbs-3.22-bioc/R/bin/R CMD build --keep-empty-dirs --no-resave-data --md5 fedup StartedAt: 2025-10-17 17:34:49 -0400 (Fri, 17 Oct 2025) EndedAt: 2025-10-17 17:36:11 -0400 (Fri, 17 Oct 2025) EllapsedTime: 82.1 seconds RetCode: 0 Status: OK PackageFile: fedup_1.17.0.tar.gz PackageFileSize: 4.701 MiB