Package: fastreeR Version: 1.99.4 Command: chmod a+r fastreeR -R && F:\biocbuild\bbs-3.22-bioc\R\bin\R.exe CMD build --keep-empty-dirs --no-resave-data fastreeR StartedAt: 2025-08-14 20:07:45 -0400 (Thu, 14 Aug 2025) EndedAt: 2025-08-14 20:10:51 -0400 (Thu, 14 Aug 2025) EllapsedTime: 186.2 seconds RetCode: 0 Status: OK PackageFile: fastreeR_1.99.4.tar.gz PackageFileSize: 2.74 MiB