Package: fastreeR Version: 1.99.4 Command: rm -rf fastreeR.buildbin-libdir && mkdir fastreeR.buildbin-libdir && F:\biocbuild\bbs-3.22-bioc\R\bin\R.exe CMD INSTALL --build --library=fastreeR.buildbin-libdir fastreeR_1.99.4.tar.gz StartedAt: 2025-08-15 10:15:51 -0400 (Fri, 15 Aug 2025) EndedAt: 2025-08-15 10:16:04 -0400 (Fri, 15 Aug 2025) EllapsedTime: 12.6 seconds RetCode: 0 Status: OK PackageFile: fastreeR_1.99.4.zip PackageFileSize: 2.789 MiB