Package: fastreeR Version: 1.11.0 Command: /Library/Frameworks/R.framework/Resources/bin/R CMD INSTALL fastreeR StartedAt: 2025-02-16 15:18:00 -0500 (Sun, 16 Feb 2025) EndedAt: 2025-02-16 15:18:04 -0500 (Sun, 16 Feb 2025) EllapsedTime: 3.8 seconds RetCode: 0 Status: OK