Package: fastreeR Version: 1.11.0 Command: /Library/Frameworks/R.framework/Resources/bin/R CMD check --install=check:fastreeR.install-out.txt --library=/Library/Frameworks/R.framework/Resources/library --no-vignettes --timings fastreeR_1.11.0.tar.gz StartedAt: 2025-02-16 20:18:48 -0500 (Sun, 16 Feb 2025) EndedAt: 2025-02-16 20:19:35 -0500 (Sun, 16 Feb 2025) EllapsedTime: 47.0 seconds RetCode: 0 Status: OK CheckDir: fastreeR.Rcheck Warnings: 0