Package: fastreeR Version: 1.11.0 Command: /Library/Frameworks/R.framework/Resources/bin/R CMD build --keep-empty-dirs --no-resave-data fastreeR StartedAt: 2025-02-16 16:11:13 -0500 (Sun, 16 Feb 2025) EndedAt: 2025-02-16 16:11:35 -0500 (Sun, 16 Feb 2025) EllapsedTime: 21.2 seconds RetCode: 0 Status: OK PackageFile: fastreeR_1.11.0.tar.gz PackageFileSize: 2.082 MiB