Package: fastLiquidAssociation Version: 1.45.0 Command: /home/biocbuild/bbs-3.22-bioc/R/bin/R CMD INSTALL fastLiquidAssociation StartedAt: 2025-10-02 15:45:01 -0400 (Thu, 02 Oct 2025) EndedAt: 2025-10-02 15:45:22 -0400 (Thu, 02 Oct 2025) EllapsedTime: 20.9 seconds RetCode: 0 Status: OK