Package: fastLiquidAssociation Version: 1.45.0 Command: /home/biocbuild/bbs-3.22-bioc/R/bin/R CMD build --keep-empty-dirs --no-resave-data --md5 fastLiquidAssociation StartedAt: 2025-10-03 17:35:19 -0400 (Fri, 03 Oct 2025) EndedAt: 2025-10-03 17:36:37 -0400 (Fri, 03 Oct 2025) EllapsedTime: 78.1 seconds RetCode: 0 Status: OK PackageFile: fastLiquidAssociation_1.45.0.tar.gz PackageFileSize: 751.4 KiB