Package: faers Version: 1.5.2 Command: /home/biocbuild/bbs-3.22-bioc/R/bin/R CMD INSTALL faers StartedAt: 2025-10-14 15:08:36 -0400 (Tue, 14 Oct 2025) EndedAt: 2025-10-14 15:09:04 -0400 (Tue, 14 Oct 2025) EllapsedTime: 28.2 seconds RetCode: 0 Status: OK