Package: faers Version: 1.5.2 Command: /home/biocbuild/bbs-3.22-bioc/R/bin/R CMD build --keep-empty-dirs --no-resave-data --md5 faers StartedAt: 2025-10-14 17:36:22 -0400 (Tue, 14 Oct 2025) EndedAt: 2025-10-14 17:36:57 -0400 (Tue, 14 Oct 2025) EllapsedTime: 35.0 seconds RetCode: 0 Status: OK PackageFile: faers_1.5.2.tar.gz PackageFileSize: 2.894 MiB