Package: factR Version: 1.11.0 Command: chmod a+r factR -R && F:\biocbuild\bbs-3.22-bioc\R\bin\R.exe CMD build --keep-empty-dirs --no-resave-data factR StartedAt: 2025-08-14 20:07:08 -0400 (Thu, 14 Aug 2025) EndedAt: 2025-08-14 20:10:53 -0400 (Thu, 14 Aug 2025) EllapsedTime: 224.4 seconds RetCode: 0 Status: OK PackageFile: factR_1.11.0.tar.gz PackageFileSize: 1.379 MiB