Package: factR Version: 1.9.0 Command: E:\biocbuild\bbs-3.21-bioc\R\bin\R.exe CMD check --no-multiarch --install=check:factR.install-out.txt --library=E:\biocbuild\bbs-3.21-bioc\R\library --no-vignettes --timings factR_1.9.0.tar.gz StartedAt: 2025-02-03 00:55:36 -0500 (Mon, 03 Feb 2025) EndedAt: 2025-02-03 00:58:20 -0500 (Mon, 03 Feb 2025) EllapsedTime: 164.1 seconds RetCode: 0 Status: OK CheckDir: factR.Rcheck Warnings: 0