Package: factR Version: 1.9.0 Command: /Library/Frameworks/R.framework/Resources/bin/R CMD INSTALL factR StartedAt: 2025-02-19 15:17:59 -0500 (Wed, 19 Feb 2025) EndedAt: 2025-02-19 15:18:15 -0500 (Wed, 19 Feb 2025) EllapsedTime: 15.4 seconds RetCode: 0 Status: OK