Package: factR Version: 1.9.0 Command: /Library/Frameworks/R.framework/Resources/bin/R CMD check --install=check:factR.install-out.txt --library=/Library/Frameworks/R.framework/Resources/library --no-vignettes --timings factR_1.9.0.tar.gz StartedAt: 2025-02-19 20:24:45 -0500 (Wed, 19 Feb 2025) EndedAt: 2025-02-19 20:27:17 -0500 (Wed, 19 Feb 2025) EllapsedTime: 151.8 seconds RetCode: 0 Status: OK CheckDir: factR.Rcheck Warnings: 0