Package: factR Version: 1.9.0 Command: /Library/Frameworks/R.framework/Resources/bin/R CMD build --keep-empty-dirs --no-resave-data factR StartedAt: 2025-02-20 16:40:18 -0500 (Thu, 20 Feb 2025) EndedAt: 2025-02-20 16:43:02 -0500 (Thu, 20 Feb 2025) EllapsedTime: 164.5 seconds RetCode: 0 Status: OK PackageFile: factR_1.9.0.tar.gz PackageFileSize: 1.838 MiB