Package: factR Version: 1.9.0 Command: /home/biocbuild/R/R/bin/R CMD build --keep-empty-dirs --no-resave-data factR StartedAt: 2025-01-28 22:51:30 -0000 (Tue, 28 Jan 2025) EndedAt: 2025-01-28 22:56:11 -0000 (Tue, 28 Jan 2025) EllapsedTime: 281.2 seconds RetCode: 0 Status: OK PackageFile: factR_1.9.0.tar.gz PackageFileSize: 1.462 MiB