Package: factDesign Version: 1.83.0 Command: E:\biocbuild\bbs-3.21-bioc\R\bin\R.exe CMD INSTALL factDesign StartedAt: 2025-02-05 15:29:16 -0500 (Wed, 05 Feb 2025) EndedAt: 2025-02-05 15:29:29 -0500 (Wed, 05 Feb 2025) EllapsedTime: 13.0 seconds RetCode: 0 Status: OK