Package: factDesign Version: 1.83.0 Command: E:\biocbuild\bbs-3.21-bioc\R\bin\R.exe CMD check --no-multiarch --install=check:factDesign.install-out.txt --library=E:\biocbuild\bbs-3.21-bioc\R\library --no-vignettes --timings factDesign_1.83.0.tar.gz StartedAt: 2025-02-11 01:13:38 -0500 (Tue, 11 Feb 2025) EndedAt: 2025-02-11 01:14:17 -0500 (Tue, 11 Feb 2025) EllapsedTime: 39.4 seconds RetCode: 0 Status: OK CheckDir: factDesign.Rcheck Warnings: 0