Package: factDesign Version: 1.83.0 Command: rm -rf factDesign.buildbin-libdir && mkdir factDesign.buildbin-libdir && /Users/biocbuild/BBS/utils/build-universal.sh factDesign_1.83.0.tar.gz /Library/Frameworks/R.framework/Resources/bin/R factDesign.buildbin-libdir StartedAt: 2025-02-11 01:07:21 -0500 (Tue, 11 Feb 2025) EndedAt: 2025-02-11 01:07:26 -0500 (Tue, 11 Feb 2025) EllapsedTime: 5.8 seconds RetCode: 0 Status: OK PackageFile: factDesign_1.83.0.tgz PackageFileSize: 231.8 KiB