Package: factDesign Version: 1.85.0 Command: /Library/Frameworks/R.framework/Resources/bin/R CMD INSTALL factDesign StartedAt: 2025-04-30 15:06:58 -0400 (Wed, 30 Apr 2025) EndedAt: 2025-04-30 15:06:59 -0400 (Wed, 30 Apr 2025) EllapsedTime: 1.6 seconds RetCode: 0 Status: OK