Package: factDesign Version: 1.85.0 Command: rm -rf factDesign.buildbin-libdir && mkdir factDesign.buildbin-libdir && /Users/biocbuild/BBS/utils/build-universal.sh factDesign_1.85.0.tar.gz /Library/Frameworks/R.framework/Resources/bin/R factDesign.buildbin-libdir StartedAt: 2025-05-01 22:34:37 -0400 (Thu, 01 May 2025) EndedAt: 2025-05-01 22:34:40 -0400 (Thu, 01 May 2025) EllapsedTime: 2.1 seconds RetCode: 0 Status: OK PackageFile: factDesign_1.85.0.tgz PackageFileSize: 231.9 KiB