Package: fabia Version: 2.55.0 Command: chmod a+r fabia -R && F:\biocbuild\bbs-3.22-bioc\R\bin\R.exe CMD build --keep-empty-dirs --no-resave-data fabia StartedAt: 2025-08-14 20:07:02 -0400 (Thu, 14 Aug 2025) EndedAt: 2025-08-14 20:07:44 -0400 (Thu, 14 Aug 2025) EllapsedTime: 41.2 seconds RetCode: 0 Status: OK PackageFile: fabia_2.55.0.tar.gz PackageFileSize: 783.9 KiB